BEGIN:VCALENDAR
VERSION:2.0
PRODID:-//Tukios.com/
BEGIN:VEVENT
UID:e3a4b24b-ef86-49fc-8ee7-eae1b55044c9@www.searcymceuenfuneralhome.com
DTSTAMP:20260421T223804Z
DTSTART:20260502
SUMMARY:Interment
DESCRIPTION:
URL:https://www.searcymceuenfuneralhome.com/obituaries/geneva-harshaw
LOCATION:  S Lemon St  Beebe AR 72012
GEO:35.0646785;-91.8907805
END:VEVENT
END:VCALENDAR