BEGIN:VCALENDAR
VERSION:2.0
PRODID:-//Tukios.com/
BEGIN:VEVENT
UID:a5e0fc77-935b-43a0-8cbc-731301b30d07@www.searcymceuenfuneralhome.com
DTSTAMP:20260421T223046Z
DTSTART:20260502T170000Z
DTEND:20260502T180000Z
SUMMARY:Celebration of Life
DESCRIPTION:
URL:https://www.searcymceuenfuneralhome.com/obituaries/geneva-harshaw
LOCATION: 2616 S Main St  Searcy AR 72143
GEO:35.2129458;-91.7317944
END:VEVENT
END:VCALENDAR