BEGIN:VCALENDAR
VERSION:2.0
PRODID:-//Tukios.com/
BEGIN:VEVENT
UID:b578e44b-76eb-4fde-906b-2f1d5a30900b@www.searcymceuenfuneralhome.com
DTSTAMP:20260421T223402Z
DTSTART:20260502T160000Z
DTEND:20260502T170000Z
SUMMARY:Visitation
DESCRIPTION:
URL:https://www.searcymceuenfuneralhome.com/obituaries/geneva-harshaw
LOCATION: 2616 S Main St  Searcy AR 72143
GEO:35.2129458;-91.7317944
END:VEVENT
END:VCALENDAR